BEGIN:VCALENDAR
VERSION:2.0
PRODID:-//NEOKOREA SPACE - ECPv6.14.2//NONSGML v1.0//EN
CALSCALE:GREGORIAN
METHOD:PUBLISH
X-ORIGINAL-URL:https://neokorea.space
X-WR-CALDESC:Events for NEOKOREA SPACE
REFRESH-INTERVAL;VALUE=DURATION:PT1H
X-Robots-Tag:noindex
X-PUBLISHED-TTL:PT1H
BEGIN:VTIMEZONE
TZID:UTC
BEGIN:STANDARD
TZOFFSETFROM:+0000
TZOFFSETTO:+0000
TZNAME:UTC
DTSTART:20200101T000000
END:STANDARD
END:VTIMEZONE
BEGIN:VEVENT
DTSTART;TZID=UTC:20201008T080000
DTEND;TZID=UTC:20201008T170000
DTSTAMP:20260423T031440
CREATED:20201007T000400Z
LAST-MODIFIED:20201007T000400Z
UID:3260-1602144000-1602176400@neokorea.space
SUMMARY:전 직원이 쉽니다
DESCRIPTION:
URL:https://neokorea.space/event/%ec%a0%84-%ec%a7%81%ec%9b%90%ec%9d%b4-%ec%89%bd%eb%8b%88%eb%8b%a4/
END:VEVENT
END:VCALENDAR