BEGIN:VCALENDAR
VERSION:2.0
PRODID:-//NEOKOREA SPACE - ECPv6.14.2//NONSGML v1.0//EN
CALSCALE:GREGORIAN
METHOD:PUBLISH
X-ORIGINAL-URL:https://neokorea.space
X-WR-CALDESC:Events for NEOKOREA SPACE
REFRESH-INTERVAL;VALUE=DURATION:PT1H
X-Robots-Tag:noindex
X-PUBLISHED-TTL:PT1H
BEGIN:VTIMEZONE
TZID:UTC
BEGIN:STANDARD
TZOFFSETFROM:+0000
TZOFFSETTO:+0000
TZNAME:UTC
DTSTART:20200101T000000
END:STANDARD
END:VTIMEZONE
BEGIN:VEVENT
DTSTART;VALUE=DATE:20200929
DTEND;VALUE=DATE:20201005
DTSTAMP:20260421T203348
CREATED:20200910T052112Z
LAST-MODIFIED:20200910T052127Z
UID:3183-1601337600-1601855999@neokorea.space
SUMMARY:추석
DESCRIPTION:
URL:https://neokorea.space/event/%ec%b6%94%ec%84%9d/
CATEGORIES:Holiday
END:VEVENT
END:VCALENDAR